BEGIN:VCALENDAR
VERSION:2.0
PRODID:-//ChamberMaster//Event Calendar 2.0//EN
METHOD:PUBLISH
X-PUBLISHED-TTL:P3D
REFRESH-INTERVAL:P3D
CALSCALE:GREGORIAN
BEGIN:VEVENT
DTSTART:20230818T230000Z
DTEND:20230819T010000Z
X-MICROSOFT-CDO-ALLDAYEVENT:FALSE
SUMMARY:iNCogNiTo Live @ The Station
DESCRIPTION:Soulful Funk-infused Rhythm & Bluesy Rock-n-Roll!
X-ALT-DESC;FMTTYPE=text/html:<span style="font-size:18px\;"><span style="font-family:tahoma\;"><span style="color:#333333\;">Soulful Funk-infused Rhythm &amp\; Bluesy Rock-n-Roll!</span></span></span>
LOCATION:The Station
UID:e.2378.23161
SEQUENCE:3
DTSTAMP:20260425T201603Z
URL:https://business.daviechamber.com/events/details/incognito-live-the-station-23161
END:VEVENT

END:VCALENDAR
