BEGIN:VCALENDAR
VERSION:2.0
PRODID:-//ChamberMaster//Event Calendar 2.0//EN
METHOD:PUBLISH
X-PUBLISHED-TTL:P3D
REFRESH-INTERVAL:P3D
CALSCALE:GREGORIAN
BEGIN:VEVENT
DTSTART:20150829T120000Z
DTEND:20150829T140000Z
X-MICROSOFT-CDO-ALLDAYEVENT:FALSE
SUMMARY:Infinity Elite Flapjack Fundraiser
DESCRIPTION:Flapjack Fundraiser @ Applebees in Clemmons to help the Allstar girls raise money to help with their expenses.
X-ALT-DESC;FMTTYPE=text/html:Flapjack Fundraiser @ Applebees in Clemmons to help the Allstar girls raise money to help with their expenses.
LOCATION:Applebees in Clemmons
UID:e.2378.907
SEQUENCE:3
DTSTAMP:20260423T140949Z
URL:https://business.daviechamber.com/events/details/infinity-elite-flapjack-fundraiser-08-29-2015-907
END:VEVENT

END:VCALENDAR
