BEGIN:VCALENDAR
VERSION:2.0
PRODID:-//ChamberMaster//Event Calendar 2.0//EN
METHOD:PUBLISH
X-PUBLISHED-TTL:P3D
REFRESH-INTERVAL:P3D
CALSCALE:GREGORIAN
BEGIN:VEVENT
DTSTART:20151029T220000Z
DTEND:20151030T000000Z
X-MICROSOFT-CDO-ALLDAYEVENT:FALSE
SUMMARY:Investing for Growth and Protection
DESCRIPTION:Edward Jones invites you to join them for an upcoming workshop. During this work shop you will learn about important investment strategies.\n\nHosted by Steve M. Talton
X-ALT-DESC;FMTTYPE=text/html:Edward Jones invites you to join them for an upcoming workshop. During this work shop you will learn about important investment strategies.<br />\n<strong>Hosted by Steve M. Talton</strong>
LOCATION:Sagebrush Steakhouse 1562 Yadkinville Road\, Mocksville
UID:e.2378.4246
SEQUENCE:3
DTSTAMP:20260422T072502Z
URL:https://business.daviechamber.com/events/details/investing-for-growth-and-protection-10-29-2015-4246
END:VEVENT

END:VCALENDAR
