BEGIN:VCALENDAR
VERSION:2.0
PRODID:-//ChamberMaster//Event Calendar 2.0//EN
METHOD:PUBLISH
X-PUBLISHED-TTL:P3D
REFRESH-INTERVAL:P3D
CALSCALE:GREGORIAN
BEGIN:VEVENT
DTSTART:20160729T190000Z
DTEND:20160729T220000Z
X-MICROSOFT-CDO-ALLDAYEVENT:FALSE
SUMMARY:iShopDavie Shopping Event
DESCRIPTION:Bermuda Commons will be hosting an iSHOPDavie Shopping Event. We will have all local vendors showcasing their products and services.  While you're here - plan to take a tour of our beautiful facility and learn about all the services we offer.  This event is open to the public so please grab your friends and come shopping.  iShopDavie - Do you?
X-ALT-DESC;FMTTYPE=text/html:Bermuda Commons will be hosting an iSHOPDavie Shopping Event. We will have all local vendors showcasing their products and services.&nbsp\; While you&#39\;re here - plan to take a tour of our beautiful facility and learn about all the services we offer.&nbsp\; This event is open to the public so please grab your friends and come shopping.&nbsp\; iShopDavie - Do you?<br />\n<br />\n&nbsp\;
LOCATION:Bermuda Commons Nursing and Rehab. 316 US HWY 801 S. Advance\, NC 27006
UID:e.2378.5658
SEQUENCE:3
DTSTAMP:20260421T182129Z
URL:https://business.daviechamber.com/events/details/ishopdavie-shopping-event-07-29-2016-5658
END:VEVENT

END:VCALENDAR
