BEGIN:VCALENDAR
VERSION:2.0
PRODID:-//ChamberMaster//Event Calendar 2.0//EN
METHOD:PUBLISH
X-PUBLISHED-TTL:P3D
REFRESH-INTERVAL:P3D
CALSCALE:GREGORIAN
BEGIN:VEVENT
DTSTART:20260301T000000Z
DTEND:20260301T030000Z
X-MICROSOFT-CDO-ALLDAYEVENT:FALSE
SUMMARY:Jacob Mitchell LIVE | O’Callahans
DESCRIPTION:We enjoyed his stellar vocals and guitar playing so much\, we are bringing him back! Nothing helps pass the winter time blues more than a night out with great food\, drinks\, and live music!
X-ALT-DESC;FMTTYPE=text/html:<span style="color: rgb(97\, 97\, 97)\; font-family: &quot\;Alegreya Sans&quot\;\, Helvetica\, Arial\, Lucida\, sans-serif\; font-size: 14px\;">&nbsp\;We enjoyed his stellar vocals and guitar playing so much\, we are bringing him back! Nothing helps pass the winter time blues more than a night out with great food\, drinks\, and live music!</span>
LOCATION:
UID:e.2378.30292
SEQUENCE:3
DTSTAMP:20260424T121207Z
URL:https://business.daviechamber.com/events/details/jacob-mitchell-live-o-callahans-30292
END:VEVENT

END:VCALENDAR
