BEGIN:VCALENDAR
VERSION:2.0
PRODID:-//ChamberMaster//Event Calendar 2.0//EN
METHOD:PUBLISH
X-PUBLISHED-TTL:P3D
REFRESH-INTERVAL:P3D
CALSCALE:GREGORIAN
BEGIN:VEVENT
DTSTART:20230709T170000Z
DTEND:20230709T200000Z
X-MICROSOFT-CDO-ALLDAYEVENT:FALSE
SUMMARY:Jazz Sunday feat. ColorSax
DESCRIPTION:Spend a relaxing Sunday afternoon at the vineyard listening to the smooth jazz sounds of ColorSax and enjoy food for purchase from Sol Kitchen from 1:00pm-4:00pm!\n\nMusic is complimentary and open to the public.\n\nFeel free to bring a lawn chair! NO outside alcohol\, food\, balls\, scooters\, or bicycles are permitted. Rain or Shine.
X-ALT-DESC;FMTTYPE=text/html:<div class="xdj266r x11i5rnm xat24cr x1mh8g0r x1vvkbs" style="margin: 0px\; overflow-wrap: break-word\; font-family: &quot\;Segoe UI Historic&quot\;\, &quot\;Segoe UI&quot\;\, Helvetica\, Arial\, sans-serif\; color: rgb(5\, 5\, 5)\; font-size: 15px\;"><span style="font-size:16px\;"><span style="font-family:tahoma\;"><span style="color:#000000\;">Spend a relaxing Sunday afternoon at the vineyard listening to the smooth jazz sounds of ColorSax and enjoy food for purchase from Sol Kitchen from 1:00pm-4:00pm!</span></span></span></div>\n\n<div class="x11i5rnm xat24cr x1mh8g0r x1vvkbs xtlvy1s" style="margin: 0.5em 0px 0px\; overflow-wrap: break-word\; font-family: &quot\;Segoe UI Historic&quot\;\, &quot\;Segoe UI&quot\;\, Helvetica\, Arial\, sans-serif\; color: rgb(5\, 5\, 5)\; font-size: 15px\;"><span style="font-size:16px\;"><span style="font-family:tahoma\;"><span style="color:#000000\;">Music is complimentary and open to the public.</span></span></span></div>\n\n<div class="x11i5rnm xat24cr x1mh8g0r x1vvkbs xtlvy1s" style="margin: 0.5em 0px 0px\; overflow-wrap: break-word\; font-family: &quot\;Segoe UI Historic&quot\;\, &quot\;Segoe UI&quot\;\, Helvetica\, Arial\, sans-serif\; color: rgb(5\, 5\, 5)\; font-size: 15px\;"><span style="font-size:16px\;"><span style="font-family:tahoma\;"><span style="color:#000000\;">Feel free to bring a lawn chair! NO outside alcohol\, food\, balls\, scooters\, or bicycles are permitted. Rain or Shine.</span></span></span></div>\n
LOCATION:RayLen Vineyards & Winery
UID:e.2378.23062
SEQUENCE:3
DTSTAMP:20260425T214837Z
URL:https://business.daviechamber.com/events/details/jazz-sunday-feat-colorsax-23062
END:VEVENT

END:VCALENDAR
