BEGIN:VCALENDAR
VERSION:2.0
PRODID:-//ChamberMaster//Event Calendar 2.0//EN
METHOD:PUBLISH
X-PUBLISHED-TTL:P3D
REFRESH-INTERVAL:P3D
CALSCALE:GREGORIAN
BEGIN:VEVENT
DTSTART:20230503T210000Z
DTEND:20230504T010000Z
X-MICROSOFT-CDO-ALLDAYEVENT:FALSE
SUMMARY:Jeep Night | Hot Dog Central Food Truck | DJ FISH
DESCRIPTION:Jeep lovers welcome! Dj Fish playing your favorites and Hot Dog Central Food Truck on site. 50/50 Raffle benefiting Toys for Tots
X-ALT-DESC;FMTTYPE=text/html:<span style="font-size:16px\;"><span style="font-family:tahoma\;">Jeep lovers welcome! Dj Fish playing your favorites and Hot Dog Central Food Truck on site. 50/50 Raffle benefiting Toys for Tots</span></span>
LOCATION:The Station
UID:e.2378.22888
SEQUENCE:3
DTSTAMP:20260424T132004Z
URL:https://business.daviechamber.com/events/details/jeep-night-hot-dog-central-food-truck-dj-fish-22888
END:VEVENT

END:VCALENDAR
