BEGIN:VCALENDAR
VERSION:2.0
PRODID:-//ChamberMaster//Event Calendar 2.0//EN
METHOD:PUBLISH
X-PUBLISHED-TTL:P3D
REFRESH-INTERVAL:P3D
CALSCALE:GREGORIAN
BEGIN:VEVENT
DTSTART:20230702T180000Z
DTEND:20230702T210000Z
X-MICROSOFT-CDO-ALLDAYEVENT:FALSE
SUMMARY:Jennifer Alvarado Live at The Station
DESCRIPTION:On Sunday\, help us welcome this 1st time artist\, Jennifer Alvarado\, to Downtown Mocksville!
X-ALT-DESC;FMTTYPE=text/html:<span class="x193iq5w xeuugli x13faqbe x1vvkbs x1xmvt09 x1lliihq x1s928wv xhkezso x1gmr53x x1cpjm7i x1fgarty x1943h6x xudqn12 x3x7a5m x6prxxf xvq8zen xo1l8bm xzsf02u x1yc453h" dir="auto">On Sunday\, help us welcome this 1st time artist\, Jennifer Alvarado\, to Downtown Mocksville!</span>
LOCATION:The Station
UID:e.2378.23025
SEQUENCE:3
DTSTAMP:20260425T230511Z
URL:https://business.daviechamber.com/events/details/jennifer-alvarado-live-at-the-station-23025
END:VEVENT

END:VCALENDAR
