BEGIN:VCALENDAR
VERSION:2.0
PRODID:-//ChamberMaster//Event Calendar 2.0//EN
METHOD:PUBLISH
X-PUBLISHED-TTL:P3D
REFRESH-INTERVAL:P3D
CALSCALE:GREGORIAN
BEGIN:VEVENT
DTSTART:20151215T230000Z
DTEND:20151216T010000Z
X-MICROSOFT-CDO-ALLDAYEVENT:FALSE
SUMMARY:Jewelry Making Class (Chandelier Earrings)
DESCRIPTION:Do you have friend who like jewelry? Would you like to learn how to make jewelry as gifts for you family and friends? Here is the opportunity of a lifetime for your gift giving! Jewelry made with love!!\n\nSecond class in a 3 class series. In this class you will learn how to make Chandelier Earrings.
X-ALT-DESC;FMTTYPE=text/html:Do you have friend who like jewelry? Would you like to learn how to make jewelry as gifts for you family and friends? Here is the opportunity of a lifetime for your gift giving! Jewelry made with love!!<br />\nSecond class in a 3 class series. In this class you will learn how to make Chandelier Earrings.
LOCATION:Scarlett's Unique Boutique 124 N. Main St. Mocksville
UID:e.2378.4317
SEQUENCE:3
DTSTAMP:20260422T044353Z
URL:https://business.daviechamber.com/events/details/jewelry-making-class-chandelier-earrings-12-15-2015-4317
END:VEVENT

END:VCALENDAR
