BEGIN:VCALENDAR
VERSION:2.0
PRODID:-//ChamberMaster//Event Calendar 2.0//EN
METHOD:PUBLISH
X-PUBLISHED-TTL:P3D
REFRESH-INTERVAL:P3D
CALSCALE:GREGORIAN
BEGIN:VEVENT
DTSTART:20151222T230000Z
DTEND:20151223T010000Z
X-MICROSOFT-CDO-ALLDAYEVENT:FALSE
SUMMARY:Jewelry Making Class (Necklaces)
DESCRIPTION:Do you have friend who like jewelry? Would you like to learn how to make jewelry as gifts for you family and friends? Here is the opportunity of a lifetime for your gift giving! Jewelry made with love!!\n\nThird in a 3 class series. The final class is necklaces
X-ALT-DESC;FMTTYPE=text/html:Do you have friend who like jewelry? Would you like to learn how to make jewelry as gifts for you family and friends? Here is the opportunity of a lifetime for your gift giving! Jewelry made with love!!<br />\nThird in a 3 class series. The final class is necklaces
LOCATION:Scarlett's Unique Boutique 124 N. Main St. Mocksville
UID:e.2378.4318
SEQUENCE:3
DTSTAMP:20260422T044042Z
URL:https://business.daviechamber.com/events/details/jewelry-making-class-necklaces-12-22-2015-4318
END:VEVENT

END:VCALENDAR
