BEGIN:VCALENDAR
VERSION:2.0
PRODID:-//ChamberMaster//Event Calendar 2.0//EN
METHOD:PUBLISH
X-PUBLISHED-TTL:P3D
REFRESH-INTERVAL:P3D
CALSCALE:GREGORIAN
BEGIN:VEVENT
DTSTART:20151208T230000Z
DTEND:20151209T010000Z
X-MICROSOFT-CDO-ALLDAYEVENT:FALSE
SUMMARY:Jewelry Making Class (Single Drop Earrings)
DESCRIPTION:Do you have friend who like jewelry? Would you like to learn how to make jewelry as gifts for you family and friends? Here is the opportunity of a lifetime for your gift giving! Jewelry made with love!! Three consecutive classes beginning with single drop earrings.
X-ALT-DESC;FMTTYPE=text/html:Do you have friend who like jewelry? Would you like to learn how to make jewelry as gifts for you family and friends? Here is the opportunity of a lifetime for your gift giving! Jewelry made with love!! Three consecutive classes beginning with single drop earrings.
LOCATION:Scarlett's Unique Boutique 124 N. Main St. Mocksville
UID:e.2378.4316
SEQUENCE:3
DTSTAMP:20260422T043942Z
URL:https://business.daviechamber.com/events/details/jewelry-making-class-single-drop-earrings-12-08-2015-4316
END:VEVENT

END:VCALENDAR
