BEGIN:VCALENDAR
VERSION:2.0
PRODID:-//ChamberMaster//Event Calendar 2.0//EN
METHOD:PUBLISH
X-PUBLISHED-TTL:P3D
REFRESH-INTERVAL:P3D
CALSCALE:GREGORIAN
BEGIN:VEVENT
DTSTART:20160910T130000Z
DTEND:20160910T160000Z
X-MICROSOFT-CDO-ALLDAYEVENT:FALSE
SUMMARY:Josh's Jog
DESCRIPTION:Please visit joshsjog.org to register. In memory of Josh Rominger.
X-ALT-DESC;FMTTYPE=text/html:Please visit joshsjog.org to register. In memory of Josh Rominger.
LOCATION:Rich Park\, Mocksville\, NC
UID:e.2378.7493
SEQUENCE:3
DTSTAMP:20260422T185130Z
URL:https://business.daviechamber.com/events/details/josh-s-jog-09-10-2016-7493
END:VEVENT

END:VCALENDAR
