BEGIN:VCALENDAR
VERSION:2.0
PRODID:-//ChamberMaster//Event Calendar 2.0//EN
METHOD:PUBLISH
X-PUBLISHED-TTL:P3D
REFRESH-INTERVAL:P3D
CALSCALE:GREGORIAN
BEGIN:VEVENT
DTSTART:20230803T223000Z
DTEND:20230804T013000Z
X-MICROSOFT-CDO-ALLDAYEVENT:FALSE
SUMMARY:Josh Tenery Music
DESCRIPTION:Music with Josh is always a pleasure! A Davie County native that has played music almost his entire life will be jamming on the deck!
X-ALT-DESC;FMTTYPE=text/html:<span style="font-size:16px\;"><span style="font-family:tahoma\;"><span style="color:#333333\;">Music with Josh is always a pleasure! A Davie County native that has played music almost his entire life will be jamming on the deck!</span></span></span>
LOCATION:O'Callahans
UID:e.2378.23118
SEQUENCE:3
DTSTAMP:20260425T201522Z
URL:https://business.daviechamber.com/events/details/josh-tenery-music-23118
END:VEVENT

END:VCALENDAR
