BEGIN:VCALENDAR
VERSION:2.0
PRODID:-//ChamberMaster//Event Calendar 2.0//EN
METHOD:PUBLISH
X-PUBLISHED-TTL:P3D
REFRESH-INTERVAL:P3D
CALSCALE:GREGORIAN
BEGIN:VEVENT
DTSTART:20250603T223000Z
DTEND:20250604T013000Z
X-MICROSOFT-CDO-ALLDAYEVENT:FALSE
SUMMARY:June Trivia Mini Season | O' Callahans
DESCRIPTION:Who doesn't love to test your knowledge and win prizes! We are hosting a 4 week trivia mini season starting June 3 through June 24. Come early to grab your seats for dinner\, drinks and the most fun trivia around. Teams of six or less and no phones!
X-ALT-DESC;FMTTYPE=text/html:<span style="color: rgb(8\, 8\, 9)\; font-family: &quot\;Segoe UI Historic&quot\;\, &quot\;Segoe UI&quot\;\, Helvetica\, Arial\, sans-serif\; font-size: 15px\;">Who doesn&#39\;t love to test your knowledge and win prizes! We are hosting a 4 week trivia mini season starting June 3 through June 24. Come early to grab your seats for dinner\, drinks and the most fun trivia around. Teams of six or less and no phones!</span>
LOCATION:O' Callahans
UID:e.2378.27307
SEQUENCE:3
DTSTAMP:20260425T221045Z
URL:https://business.daviechamber.com/events/details/june-trivia-mini-season-o-callahans-27307
END:VEVENT

END:VCALENDAR
