BEGIN:VCALENDAR
VERSION:2.0
PRODID:-//ChamberMaster//Event Calendar 2.0//EN
METHOD:PUBLISH
X-PUBLISHED-TTL:P3D
REFRESH-INTERVAL:P3D
CALSCALE:GREGORIAN
BEGIN:VEVENT
DTSTART:20260116T213000Z
DTEND:20260117T023000Z
X-MICROSOFT-CDO-ALLDAYEVENT:FALSE
SUMMARY:Just BINGO!
DESCRIPTION:Come play BINGO and help raise money to pay off Just HOPE's building!\n\n\n\nDoors open at 4:30PM.\n\nEarly Bird Games start at 5PM.\n\nMain Program begins at 6PM.\n\n$25 gets you 90 chances to win up to $1\,000 in CASH prizes!\n\nWe have concessions\, hotdog combos\, daubers\, and raffle tickets for sale as well!\n\n\n\nCome join us for a great time for a great cause!
X-ALT-DESC;FMTTYPE=text/html:Come play BINGO and help raise money to pay off Just HOPE&#39\;s building!<br />\n<br />\nDoors open at 4:30PM.<br />\nEarly Bird Games start at 5PM.<br />\nMain Program begins at 6PM.<br />\n$25 gets you 90 chances to win up to $1\,000 in CASH prizes!<br />\nWe have concessions\, hotdog combos\, daubers\, and raffle tickets for sale as well!<br />\n<br />\nCome join us for a great time for a great cause!
LOCATION:
UID:e.2378.29505
SEQUENCE:3
DTSTAMP:20260424T133441Z
URL:https://business.daviechamber.com/events/details/just-bingo-29505
END:VEVENT

END:VCALENDAR
