BEGIN:VCALENDAR
VERSION:2.0
PRODID:-//ChamberMaster//Event Calendar 2.0//EN
METHOD:PUBLISH
X-PUBLISHED-TTL:P3D
REFRESH-INTERVAL:P3D
CALSCALE:GREGORIAN
BEGIN:VEVENT
DTSTART:20150711T220000Z
DTEND:20150712T010000Z
X-MICROSOFT-CDO-ALLDAYEVENT:FALSE
SUMMARY:Just HOPE Fundraiser @ Wild Mountain Art
DESCRIPTION:Wild Mountain Art has graciously offered to host a fundraiser for Just HOPE on July 11th at 6 pm to be held at the studio in Farmington.  It will be indoors and the painting will be of owls. . . very cute!  The cost is $30 which includes the art supplies and food.  All you need to do is bring your wine for this paint and sip event.  1/3 of all proceeds come back to JHI to benefit the mission of helping those in need within our county.  Please email krystaldumas2010@yahoo.com to reserve your spot.  You pay at the event.  If more than 25 sign up\, we will move to a bigger venue.
X-ALT-DESC;FMTTYPE=text/html:Wild Mountain Art has graciously offered to host a fundraiser for Just HOPE on July 11th at 6 pm to be held at the studio in Farmington.&nbsp\; It will be indoors and the painting will be of owls. . . very cute!&nbsp\; The cost is $30 which includes the art supplies and food.&nbsp\; All you need to do is bring your wine for this paint and sip event.&nbsp\; 1/3 of all proceeds come back to JHI to benefit the mission of helping those in need within our county.&nbsp\; Please email krystaldumas2010@yahoo.com to reserve your spot.&nbsp\; You pay at the event.&nbsp\; If more than 25 sign up\, we will move to a bigger venue.&nbsp\;&nbsp\;
LOCATION:Wild Mountain Designs & Art 1890 Farmington Road
UID:e.2378.861
SEQUENCE:3
DTSTAMP:20260423T152332Z
URL:https://business.daviechamber.com/events/details/just-hope-fundraiser-wild-mountain-art-07-11-2015-861
END:VEVENT

END:VCALENDAR
