BEGIN:VCALENDAR
VERSION:2.0
PRODID:-//ChamberMaster//Event Calendar 2.0//EN
METHOD:PUBLISH
X-PUBLISHED-TTL:P3D
REFRESH-INTERVAL:P3D
CALSCALE:GREGORIAN
BEGIN:VEVENT
DTSTART:20230705T220000Z
DTEND:20230706T010000Z
X-MICROSOFT-CDO-ALLDAYEVENT:FALSE
SUMMARY:Karaoke Night
DESCRIPTION:Come sing your heart out at our Karaoke Night!\n\nWe will have a selection of songs to pick from. When you come that night\, you will put your name down on the sign up sheet and your name will be called to pick a song and sing!\n\nCome have a fun time with us!\n\nJuly 5th at 6 - 9 pm
X-ALT-DESC;FMTTYPE=text/html:<div class="xdj266r x11i5rnm xat24cr x1mh8g0r x1vvkbs" style="margin: 0px\; overflow-wrap: break-word\; font-family: &quot\;Segoe UI Historic&quot\;\, &quot\;Segoe UI&quot\;\, Helvetica\, Arial\, sans-serif\; color: rgb(5\, 5\, 5)\; font-size: 15px\;"><span style="color:#000000\;"><span style="font-size:16px\;"><span style="font-family:tahoma\;">Come sing your heart out at our Karaoke Night!</span></span></span></div>\n\n<div class="x11i5rnm xat24cr x1mh8g0r x1vvkbs xtlvy1s" style="margin: 0.5em 0px 0px\; overflow-wrap: break-word\; font-family: &quot\;Segoe UI Historic&quot\;\, &quot\;Segoe UI&quot\;\, Helvetica\, Arial\, sans-serif\; color: rgb(5\, 5\, 5)\; font-size: 15px\;"><span style="color:#000000\;"><span style="font-size:16px\;"><span style="font-family:tahoma\;">We will have a selection of songs to pick from. When you come that night\, you will put your name down on the sign up sheet and your name will be called to pick a song and sing!</span></span></span></div>\n\n<div class="x11i5rnm xat24cr x1mh8g0r x1vvkbs xtlvy1s" style="margin: 0.5em 0px 0px\; overflow-wrap: break-word\; font-family: &quot\;Segoe UI Historic&quot\;\, &quot\;Segoe UI&quot\;\, Helvetica\, Arial\, sans-serif\; color: rgb(5\, 5\, 5)\; font-size: 15px\;"><span style="color:#000000\;"><span style="font-size:16px\;"><span style="font-family:tahoma\;">Come have a fun time with us!</span></span></span></div>\n\n<div class="x11i5rnm xat24cr x1mh8g0r x1vvkbs xtlvy1s" style="margin: 0.5em 0px 0px\; overflow-wrap: break-word\; font-family: &quot\;Segoe UI Historic&quot\;\, &quot\;Segoe UI&quot\;\, Helvetica\, Arial\, sans-serif\; color: rgb(5\, 5\, 5)\; font-size: 15px\;"><span style="color:#000000\;"><span style="font-size:16px\;"><span style="font-family:tahoma\;">July 5th at 6 - 9 pm</span></span></span></div>\n
LOCATION:Davie County Public Library
UID:e.2378.23030
SEQUENCE:3
DTSTAMP:20260425T214634Z
URL:https://business.daviechamber.com/events/details/karaoke-night-23030
END:VEVENT

END:VCALENDAR
