BEGIN:VCALENDAR
VERSION:2.0
PRODID:-//ChamberMaster//Event Calendar 2.0//EN
METHOD:PUBLISH
X-PUBLISHED-TTL:P3D
REFRESH-INTERVAL:P3D
CALSCALE:GREGORIAN
BEGIN:VEVENT
DTSTART:20260308T000000Z
DTEND:20260308T030000Z
X-MICROSOFT-CDO-ALLDAYEVENT:FALSE
SUMMARY:Karaoke with DJ Old Skkool | O'callahans
DESCRIPTION:Who loves a great Karaoke Night? EVERYONE!\n\nJoin us for a fun-filled night of great food\, drinks\, and karaoke!\n\n\n\nCome early to grab a seat\, it's gonna be epic!
X-ALT-DESC;FMTTYPE=text/html:<span style="color: rgb(97\, 97\, 97)\; font-family: &quot\;Alegreya Sans&quot\;\, Helvetica\, Arial\, Lucida\, sans-serif\; font-size: 14px\;">Who loves a great Karaoke Night?</span><span style="color: rgb(97\, 97\, 97)\; font-family: &quot\;Alegreya Sans&quot\;\, Helvetica\, Arial\, Lucida\, sans-serif\; font-size: 14px\;">&nbsp\;EVERYONE!<br />\nJoin us&nbsp\;</span><span style="color: rgb(97\, 97\, 97)\; font-family: &quot\;Alegreya Sans&quot\;\, Helvetica\, Arial\, Lucida\, sans-serif\; font-size: 14px\;">for a fun-filled night of great food\, drinks\, and karaoke!<br />\n<br />\nCome early to grab a seat\, it&rsquo\;s gonna be epic!</span>
LOCATION:
UID:e.2378.30444
SEQUENCE:3
DTSTAMP:20260424T105446Z
URL:https://business.daviechamber.com/events/details/karaoke-with-dj-old-skkool-o-callahans-30444
END:VEVENT

END:VCALENDAR
