BEGIN:VCALENDAR
VERSION:2.0
PRODID:-//ChamberMaster//Event Calendar 2.0//EN
METHOD:PUBLISH
X-PUBLISHED-TTL:P3D
REFRESH-INTERVAL:P3D
CALSCALE:GREGORIAN
BEGIN:VEVENT
DTSTART:20181025T233000Z
DTEND:20181026T023000Z
X-MICROSOFT-CDO-ALLDAYEVENT:FALSE
SUMMARY:Kickoff for Touchdowns for Education
DESCRIPTION:Kickoff for the 2018 Touchdowns for Education is at 7:30pm on Thursday\, October 25th at Davie High's War Eagle Stadium. The War Eagles will be taking on the West Forsyth Titans for Homecoming!\n\n\n\nLocal sponsors who join he Touchdowns for Education team pledge to contribute $100 for every War Eagle touchdown scored that night. The sponsor agrees to a minimum of $200 for the game (and contribution will not exceed $500). Sponsors will be listed in the Enterprise Record and receive recognition by the announcers during the game! \n\n\n\nClick Here to join the Touchdowns for Education Team made possible by the Davie Community Foundation.
X-ALT-DESC;FMTTYPE=text/html:Kickoff for the 2018 Touchdowns for Education is at 7:30pm on Thursday\, October 25th at Davie High&#39\;s War Eagle Stadium. The War Eagles will be taking on the West Forsyth Titans for Homecoming!<br />\n<br />\nLocal sponsors who join he Touchdowns for Education team pledge to contribute $100 for every War Eagle touchdown scored that night. The sponsor agrees to a minimum of $200 for the game (and contribution will not exceed $500). Sponsors will be listed in the Enterprise Record and receive recognition by the announcers during the game!&nbsp\;<br />\n<br />\n<a href="https://www.daviefoundation.org/touchdowns/">Click Here</a> to join the Touchdowns for Education Team made possible by the Davie Community Foundation.
LOCATION:Davie High War Eagle Stadium 180 War Eagle Drive Mocksville\, NC 27028
UID:e.2378.14892
SEQUENCE:3
DTSTAMP:20260421T081259Z
URL:https://business.daviechamber.com/events/details/kickoff-for-touchdowns-for-education-14892
END:VEVENT

END:VCALENDAR
