BEGIN:VCALENDAR
VERSION:2.0
PRODID:-//ChamberMaster//Event Calendar 2.0//EN
METHOD:PUBLISH
X-PUBLISHED-TTL:P3D
REFRESH-INTERVAL:P3D
CALSCALE:GREGORIAN
BEGIN:VEVENT
DTSTART:20160430T170000Z
DTEND:20160430T210000Z
X-MICROSOFT-CDO-ALLDAYEVENT:FALSE
SUMMARY:Kids & Pros: Football Clinic
DESCRIPTION:Kids & Pros will be at Davie County High School in Mocksville\, NC for a FREE football clinic! This clinic is led by former NFL players that teach Heads Up contact safe tackling techniques and position fundamentals training while incorporating life skills lessons into a 1-day clinic for athletes ages 6-13. No equipment is required for this non-contact football instruction.
X-ALT-DESC;FMTTYPE=text/html:<br />\nKids &amp\; Pros will be at Davie County High School in Mocksville\, NC for a FREE football clinic! This clinic is led by former NFL players that teach Heads Up contact safe tackling techniques and position fundamentals training while incorporating life skills lessons into a 1-day clinic for athletes ages 6-13. No equipment is required for this non-contact football instruction.
LOCATION:Davie County High School 1200 S. Salisbury Street\, Mocksville
UID:e.2378.5136
SEQUENCE:3
DTSTAMP:20260421T223436Z
URL:https://business.daviechamber.com/events/details/kids-pros-football-clinic-04-30-2016-5136
END:VEVENT

END:VCALENDAR
