BEGIN:VCALENDAR
VERSION:2.0
PRODID:-//ChamberMaster//Event Calendar 2.0//EN
METHOD:PUBLISH
X-PUBLISHED-TTL:P3D
REFRESH-INTERVAL:P3D
CALSCALE:GREGORIAN
BEGIN:VEVENT
DTSTART:20230715T220000Z
DTEND:20230716T010000Z
X-MICROSOFT-CDO-ALLDAYEVENT:FALSE
SUMMARY:Killer Antz at Tanglewood Pizza Company
DESCRIPTION:Killer Antz will be back at TPC this Saturday bringing their originals and all your favorite alternative rock hits!!\n\nSponsored by:\n\nLongleaf Provisions Company\n\nMix Tape
X-ALT-DESC;FMTTYPE=text/html:<div class="xdj266r x11i5rnm xat24cr x1mh8g0r x1vvkbs" style="margin: 0px\; overflow-wrap: break-word\; font-family: &quot\;Segoe UI Historic&quot\;\, &quot\;Segoe UI&quot\;\, Helvetica\, Arial\, sans-serif\; color: rgb(5\, 5\, 5)\; font-size: 15px\;"><span style="font-size:18px\;"><span style="font-family:tahoma\;"><span style="color:#666666\;">Killer Antz will be back at TPC this Saturday bringing their originals and all your favorite alternative rock hits!!</span></span></span></div>\n\n<div class="x11i5rnm xat24cr x1mh8g0r x1vvkbs xtlvy1s" style="margin: 0.5em 0px 0px\; overflow-wrap: break-word\; font-family: &quot\;Segoe UI Historic&quot\;\, &quot\;Segoe UI&quot\;\, Helvetica\, Arial\, sans-serif\; color: rgb(5\, 5\, 5)\; font-size: 15px\;"><span style="font-size:18px\;"><span style="font-family:tahoma\;"><span style="color:#666666\;">Sponsored by:<br>\nLongleaf Provisions Company<br>\nMix Tape</span></span></span></div>\n
LOCATION:Tanglewood Pizza Company
UID:e.2378.23088
SEQUENCE:3
DTSTAMP:20260425T214956Z
URL:https://business.daviechamber.com/events/details/killer-antz-at-tanglewood-pizza-company-23088
END:VEVENT

END:VCALENDAR
