BEGIN:VCALENDAR
VERSION:2.0
PRODID:-//ChamberMaster//Event Calendar 2.0//EN
METHOD:PUBLISH
X-PUBLISHED-TTL:P3D
REFRESH-INTERVAL:P3D
CALSCALE:GREGORIAN
BEGIN:VEVENT
DTSTART:20230923T160000Z
DTEND:20230923T200000Z
X-MICROSOFT-CDO-ALLDAYEVENT:FALSE
SUMMARY:King Taco Food Truck & The Sunny Lemon Stand
DESCRIPTION:Enjoy delicious tacos and refreshing lemonade at The Station!
X-ALT-DESC;FMTTYPE=text/html:<span style="color:#333333\;"><span style="font-size:18px\;"><span style="font-family:tahoma\;">Enjoy delicious tacos and refreshing lemonade at The Station!</span></span></span>
LOCATION:The Station
UID:e.2378.23275
SEQUENCE:3
DTSTAMP:20260425T185644Z
URL:https://business.daviechamber.com/events/details/king-taco-food-truck-the-sunny-lemon-stand-23275
END:VEVENT

END:VCALENDAR
