BEGIN:VCALENDAR
VERSION:2.0
PRODID:-//ChamberMaster//Event Calendar 2.0//EN
METHOD:PUBLISH
X-PUBLISHED-TTL:P3D
REFRESH-INTERVAL:P3D
CALSCALE:GREGORIAN
BEGIN:VEVENT
DTSTART:20160902T100000Z
DTEND:20160903T020000Z
X-MICROSOFT-CDO-ALLDAYEVENT:FALSE
SUMMARY:Krispy Kreme Fundraiser to Benefit Cancer Services
DESCRIPTION:Fundraiser to benefit Cancer Services. Your donation can go a long way to help find a cure. Due to our overwhelming support\, we are currently taking pre-order commitments.
X-ALT-DESC;FMTTYPE=text/html:Fundraiser to benefit Cancer Services. Your donation can go a long way to help find a cure. Due to our overwhelming support\, we are currently taking pre-order commitments.
LOCATION:Participating Krispy Kreme Doughnuts Locations
UID:e.2378.9190
SEQUENCE:3
DTSTAMP:20260422T185733Z
URL:https://business.daviechamber.com/events/details/krispy-kreme-fundraiser-to-benefit-cancer-services-9190
END:VEVENT

END:VCALENDAR
