BEGIN:VCALENDAR
VERSION:2.0
PRODID:-//ChamberMaster//Event Calendar 2.0//EN
METHOD:PUBLISH
X-PUBLISHED-TTL:P3D
REFRESH-INTERVAL:P3D
CALSCALE:GREGORIAN
BEGIN:VEVENT
DTSTART:20170216T230000Z
DTEND:20170217T000000Z
X-MICROSOFT-CDO-ALLDAYEVENT:FALSE
SUMMARY:Ladies Self Defense @ Davie Medical Center
DESCRIPTION:Held at Wake Forest Baptist Health - Davie Medical Center\, Plaza 1\, 4th floor\, conference rooms 1 & 2\, intersection of Highway 801 and Interstate 40\, Exit 180\, Bermuda Run. Join Michele Coalson with AMAA Sports of Davie/Karate International in this workshop to learn the core principles in self-defense. Learn exercises that will enable you to better handle a violent encounter. Recommended for women. Pre-registration required\; call 336-713-BEST (2378).
X-ALT-DESC;FMTTYPE=text/html:Held at Wake Forest Baptist Health - Davie Medical Center\, Plaza 1\, 4th floor\, conference rooms 1 &amp\; 2\, intersection of Highway 801 and Interstate 40\, Exit 180\, Bermuda Run. Join Michele Coalson with AMAA Sports of Davie/Karate International in this workshop to learn the core principles in self-defense. Learn exercises that will enable you to better handle a violent encounter. Recommended for women. Pre-registration required\; call 336-713-BEST (2378).
LOCATION:WFBH Davie Medical Center Plaza 1\, 4th Floor\, Conference Rooms 1 & 2 313 NC Hwy 801 N Bermuda Run\, NC 27006
UID:e.2378.11285
SEQUENCE:3
DTSTAMP:20260421T103456Z
URL:https://business.daviechamber.com/events/details/ladies-self-defense-davie-medical-center-02-16-2017-11285
END:VEVENT

END:VCALENDAR
