BEGIN:VCALENDAR
VERSION:2.0
PRODID:-//ChamberMaster//Event Calendar 2.0//EN
METHOD:PUBLISH
X-PUBLISHED-TTL:P3D
REFRESH-INTERVAL:P3D
CALSCALE:GREGORIAN
BEGIN:VEVENT
DTSTART:20170126T230000Z
DTEND:20170126T230000Z
X-MICROSOFT-CDO-ALLDAYEVENT:FALSE
SUMMARY:Ladies Self Defense @ Davie Medical Center
DESCRIPTION:Join Michele Coalson\, with AMAA Sports of Davie and Karate International\, in this workshop to learn the core principles in self-defense. Learn exercises that will enable you to better handle a violent encounter. Recommended for women. Pre-registration is required.
X-ALT-DESC;FMTTYPE=text/html:Join Michele Coalson\,&nbsp\;with AMAA Sports of Davie and Karate International\, in this workshop to learn the core principles in self-defense. Learn exercises that will enable you to better handle a violent encounter. Recommended for women. Pre-registration is required.<br />\n&nbsp\;
LOCATION:Wake Forest Baptist Health - Davie Medical Center Plaza 1\, 4th Floor\, Conference Rooms 1 & 2 313 NC Hwy 801 N Bermuda Run\, NC 27006
UID:e.2378.10910
SEQUENCE:3
DTSTAMP:20260421T103457Z
URL:https://business.daviechamber.com/events/details/ladies-self-defense-davie-medical-center-10910
END:VEVENT

END:VCALENDAR
