BEGIN:VCALENDAR
VERSION:2.0
PRODID:-//ChamberMaster//Event Calendar 2.0//EN
METHOD:PUBLISH
X-PUBLISHED-TTL:P3D
REFRESH-INTERVAL:P3D
CALSCALE:GREGORIAN
BEGIN:VEVENT
DTSTART:20230325T170000Z
DTEND:20230325T190000Z
X-MICROSOFT-CDO-ALLDAYEVENT:FALSE
SUMMARY:Lake Carver & Tae Childress - Live Music
DESCRIPTION:Local musicians\, Tae Childress & Lake Carver\, from band Southbound 77 will perform songs from many genres. They will also feature Special Guests from The Sourwood Honey Band and His and Hers!!
X-ALT-DESC;FMTTYPE=text/html:<span style="caret-color: rgb(5\, 5\, 5)\; color: rgb(5\, 5\, 5)\; font-family: system-ui\, -apple-system\, BlinkMacSystemFont\, &quot\;.SFNSText-Regular&quot\;\, sans-serif\; font-size: 15px\;">Local musicians\, Tae Childress &amp\; Lake Carver\, from band Southbound 77 will perform songs from many genres. They will also feature Special Guests from The Sourwood Honey Band and His and Hers!!</span>
LOCATION:The Station
UID:e.2378.22814
SEQUENCE:3
DTSTAMP:20260424T092133Z
URL:https://business.daviechamber.com/events/details/lake-carver-tae-childress-live-music-22814
END:VEVENT

END:VCALENDAR
