BEGIN:VCALENDAR
VERSION:2.0
PRODID:-//ChamberMaster//Event Calendar 2.0//EN
METHOD:PUBLISH
X-PUBLISHED-TTL:P3D
REFRESH-INTERVAL:P3D
CALSCALE:GREGORIAN
BEGIN:VEVENT
DTSTART:20150717T163000Z
DTEND:20150717T210000Z
X-MICROSOFT-CDO-ALLDAYEVENT:FALSE
SUMMARY:Lane Bolmer Golf Tournament
DESCRIPTION:Golf Tournament to Benefit Lane Bolmer\n\nFriday\, July 17\, 2015\n\nPudding Ridge Golf Course\n\n12:30pm Lunch    2:00pm Shotgun Start\n\n$200/team\n\n$50/player\n\n$100 hole sponsors
X-ALT-DESC;FMTTYPE=text/html:Golf Tournament to Benefit Lane Bolmer<br />\nFriday\, July 17\, 2015<br />\nPudding Ridge Golf Course<br />\n12:30pm Lunch&nbsp\;&nbsp\;&nbsp\; 2:00pm Shotgun Start<br />\n$200/team<br />\n$50/player<br />\n$100 hole sponsors<br />\n&nbsp\;
LOCATION:Pudding Ridge Golf Course
UID:e.2378.863
SEQUENCE:3
DTSTAMP:20260423T152746Z
URL:https://business.daviechamber.com/events/details/lane-bolmer-golf-tournament-07-17-2015-863
END:VEVENT

END:VCALENDAR
