BEGIN:VCALENDAR
VERSION:2.0
PRODID:-//ChamberMaster//Event Calendar 2.0//EN
METHOD:PUBLISH
X-PUBLISHED-TTL:P3D
REFRESH-INTERVAL:P3D
CALSCALE:GREGORIAN
BEGIN:VEVENT
DTSTART:20160908T151500Z
DTEND:20160908T183000Z
X-MICROSOFT-CDO-ALLDAYEVENT:FALSE
SUMMARY:Lattes & Lunch @ The Factory Coffeehouse
DESCRIPTION:15% of all sales benefit the Dragonfly House Children's Advocacy Center.
X-ALT-DESC;FMTTYPE=text/html:15% of all sales benefit the Dragonfly House Children&#39\;s Advocacy Center.
LOCATION:The Factory Coffeehouse 128 North Main Street Mocksville\, NC 27028
UID:e.2378.9216
SEQUENCE:3
DTSTAMP:20260422T190037Z
URL:https://business.daviechamber.com/events/details/lattes-lunch-the-factory-coffeehouse-9216
END:VEVENT

END:VCALENDAR
