BEGIN:VCALENDAR
VERSION:2.0
PRODID:-//ChamberMaster//Event Calendar 2.0//EN
METHOD:PUBLISH
X-PUBLISHED-TTL:P3D
REFRESH-INTERVAL:P3D
CALSCALE:GREGORIAN
BEGIN:VEVENT
DTSTART:20150915T160000Z
DTEND:20150915T173000Z
X-MICROSOFT-CDO-ALLDAYEVENT:FALSE
SUMMARY:"Learning How to Stand Out & Step Out at an Expo"
DESCRIPTION:Are you going to participate in an Expo this year?  If the answer is yes\,  then please join us for a FREE seminar on "Learning How to Stand Out & Step Out at an Expo."  Our guest speaker is Debbie Fuchs\, Digital Media Specialist\, Marketing & PR Guru of Bouvier Kelly. \n\nLunch is $5 and includes sub\, chips and drink.  To have lunch you must RSVP to the Davie Chamber by Friday\, September 11th.\n\nLunch is opitional.
X-ALT-DESC;FMTTYPE=text/html:Are you going to participate in an Expo this year?&nbsp\; If the answer is yes\,&nbsp\; then please join us for a <strong>FREE</strong> seminar on &quot\;Learning How to Stand Out &amp\; Step Out at an Expo.&quot\;&nbsp\; Our guest speaker is Debbie Fuchs\, Digital Media Specialist\, Marketing &amp\; PR Guru of Bouvier Kelly.&nbsp\;<br />\nLunch is $5 and includes sub\, chips and drink.&nbsp\; To have lunch you must RSVP to the Davie Chamber by Friday\, September 11th.<br />\nLunch is opitional.<br />\n&nbsp\;
LOCATION:Hampton Inn Bermuda Run 196 NC Hwy 801 N\, Bermuda Run
UID:e.2378.3954
SEQUENCE:3
DTSTAMP:20260422T085238Z
URL:https://business.daviechamber.com/events/details/learning-how-to-stand-out-step-out-at-an-expo-09-15-2015-3954
END:VEVENT

END:VCALENDAR
