BEGIN:VCALENDAR
VERSION:2.0
PRODID:-//ChamberMaster//Event Calendar 2.0//EN
METHOD:PUBLISH
X-PUBLISHED-TTL:P3D
REFRESH-INTERVAL:P3D
CALSCALE:GREGORIAN
BEGIN:VEVENT
DTSTART:20151021T153000Z
DTEND:20151021T170000Z
X-MICROSOFT-CDO-ALLDAYEVENT:FALSE
SUMMARY:"Let's Do Lunch & Learn" - Sales Tax Workshop
DESCRIPTION:Oh\, happy day!  You have your new business all planned out and ready for your first sale.  Or\, you have already had sales and aren't sure if you should be charging sales tax or not.\n\n    Help is here!  The Davie County Chamber of Commerce is sponsoring "Sales Tax Workshop" Let's Do Lunch & Learn from 11:30   1:00 on October 21st.  Judy Wilson\, owner of Custom Bookkeeping & Payroll Solutions\, LLC will be conducting the workshop.  She is an Accountant and a Certified QuickBooks Pro-Advisor with experience in the corporate world of accounting and payroll for 18-years before opening her business in 2005.  Sales tax is one of her specialties.   Judy maintains the sales tax rates\,  to correctly  invoice customers\, for one of her client's in their financial software and files the sales tax returns in four states for them\, as well as assisting with Department of Revenue sales tax audits.\n\n\n\nLunch will be provided before the workshop and is compliments of Sheetz (11:30-12:00).
X-ALT-DESC;FMTTYPE=text/html:<span style="font-size:12.0pt\;">Oh\, happy day!&nbsp\; You have your new business all planned out and ready for your first sale.&nbsp\; Or\, you have already had sales and aren&rsquo\;t sure if you should be charging sales tax or not.</span><br />\n&nbsp\;&nbsp\;&nbsp\;&nbsp\;<span style="font-size:12.0pt\;">Help is here!&nbsp\; The Davie County Chamber of Commerce is sponsoring &quot\;Sales Tax Workshop&quot\; Let&#39\;s Do Lunch &amp\; Learn from 11:30 &ndash\; 1:00 on October 21<sup>st</sup>.&nbsp\; Judy Wilson\, owner of Custom Bookkeeping &amp\; Payroll Solutions\, LLC will be conducting the workshop.&nbsp\; She is an Accountant and a Certified QuickBooks Pro-Advisor with experience in the corporate world of accounting and payroll for 18-years before opening her business in 2005.&nbsp\; Sales tax is one of her specialties.&nbsp\;&nbsp\; Judy maintains the sales tax rates\,&nbsp\; to correctly&nbsp\; invoice customers\, for one of her client&rsquo\;s in their financial software and files the sales tax returns in four states for them\, as well as assisting with Department of Revenue sales tax audits.</span><br />\n<br />\n<em>Lunch will be provided before the workshop and is compliments of Sheetz (11:30-12:00).</em><br />\n<br />\n&nbsp\;
LOCATION:DCCC - Davie Education Center 120 Kinderton Blvd.\, Suite 110\, Bermuda Run
UID:e.2378.3979
SEQUENCE:3
DTSTAMP:20260422T072541Z
URL:https://business.daviechamber.com/events/details/let-s-do-lunch-learn-sales-tax-workshop-10-21-2015-3979
END:VEVENT

END:VCALENDAR
