BEGIN:VCALENDAR
VERSION:2.0
PRODID:-//ChamberMaster//Event Calendar 2.0//EN
METHOD:PUBLISH
X-PUBLISHED-TTL:P3D
REFRESH-INTERVAL:P3D
CALSCALE:GREGORIAN
BEGIN:VEVENT
DTSTART:20170215T110000Z
DTEND:20170216T020000Z
X-MICROSOFT-CDO-ALLDAYEVENT:FALSE
SUMMARY:Let's Help Wyatt
DESCRIPTION:Come out to the Factory Coffeehouse on Wednesday\, February 15\, a sizeable portion of the day's sales will go towards little Wyatt\, son of Zach and Sarah Vogler.\n\n\n\nWyatt\, only two years old\, was accidently bitten by their family dog. Right before he turns four Wyatt will begin undergoing surgeries. For a full year Wyatt will have three to four surgeries consisting of multiple skin graphs as well as the "building" of a nose. Any money raised will go towards medical bills and surgical procedures.
X-ALT-DESC;FMTTYPE=text/html:Come out to the Factory Coffeehouse on Wednesday\, February 15\, a sizeable portion of the day&#39\;s sales will go towards little Wyatt\, son of Zach and Sarah Vogler.<br />\n<br />\nWyatt\, only two years old\, was accidently bitten by their family dog. Right before he turns four Wyatt will begin undergoing surgeries. For a full year Wyatt will have three to four surgeries consisting of multiple skin graphs as well as the &quot\;building&quot\; of a nose. Any money raised will go towards medical bills and surgical procedures.
LOCATION:The Factory Coffeehouse 128 N Main St Mocksville\, NC 27028
UID:e.2378.11306
SEQUENCE:3
DTSTAMP:20260422T112211Z
URL:https://business.daviechamber.com/events/details/let-s-help-wyatt-11306
END:VEVENT

END:VCALENDAR
