BEGIN:VCALENDAR
VERSION:2.0
PRODID:-//ChamberMaster//Event Calendar 2.0//EN
METHOD:PUBLISH
X-PUBLISHED-TTL:P3D
REFRESH-INTERVAL:P3D
CALSCALE:GREGORIAN
BEGIN:VEVENT
DTSTART:20190504T220000Z
DTEND:20190505T010000Z
X-MICROSOFT-CDO-ALLDAYEVENT:FALSE
SUMMARY:Live Music - Colin Allured
DESCRIPTION:Join us for live music 6-9! Colin plays a perfect mix of today's and yesterdays hits. The difference is he puts his own twist to everything he plays! Come in and Jam with us!!
X-ALT-DESC;FMTTYPE=text/html:<span style="color: rgb(29\, 33\, 41)\; font-family: Helvetica\, Arial\, sans-serif\; font-size: 14px\; white-space: pre-wrap\;">Join us for live music 6-9! Colin plays a perfect mix of today&#39\;s and yesterdays hits. The difference is he puts his own twist to everything he plays! Come in and Jam with us!!</span>
LOCATION:Tanglewood Pizza Co. 5539 US HWy 158 Bermuda Run
UID:e.2378.15739
SEQUENCE:3
DTSTAMP:20260419T141552Z
URL:https://business.daviechamber.com/events/details/live-music-colin-allured-15739
END:VEVENT

END:VCALENDAR
