BEGIN:VCALENDAR
VERSION:2.0
PRODID:-//ChamberMaster//Event Calendar 2.0//EN
METHOD:PUBLISH
X-PUBLISHED-TTL:P3D
REFRESH-INTERVAL:P3D
CALSCALE:GREGORIAN
BEGIN:VEVENT
DTSTART:20190505T000000Z
DTEND:20190505T030000Z
X-MICROSOFT-CDO-ALLDAYEVENT:FALSE
SUMMARY:Live Music - NEW 64-Bistro featuring Jukebox Rehab
DESCRIPTION:64-Bistro at Colin Creek Golf and Country Club will be officially opening its doors to the public this Saturday\, May 4th! They will host live music by Jukebox Rehab from 8:00pm-11:00pm to celebrate this Grand Opening at Colin Creek Golf & Country Club.\n\n \n\nThe course is OPEN from 8:00am to 7:00pm. Come out and play a few rounds and enjoy a delicious lunch or dinner!
X-ALT-DESC;FMTTYPE=text/html:<div>64-Bistro at Colin Creek Golf and Country Club will be officially opening its doors to the public this Saturday\, May 4th! They will host live music by <u>Jukebox Rehab </u>from 8:00pm-11:00pm to celebrate this Grand Opening at Colin Creek Golf &amp\; Country Club.</div>\n\n<div>&nbsp\;</div>\n\n<div>The course is OPEN from 8:00am to 7:00pm. Come out and play a few rounds and enjoy a delicious lunch or dinner!</div>\n<br />\n&nbsp\;
LOCATION:64-Bistro 2251 US HWY 64 East Mocksville
UID:e.2378.15742
SEQUENCE:3
DTSTAMP:20260419T141546Z
URL:https://business.daviechamber.com/events/details/live-music-new-64-bistro-featuring-jukebox-rehab-15742
END:VEVENT

END:VCALENDAR
