BEGIN:VCALENDAR
VERSION:2.0
PRODID:-//ChamberMaster//Event Calendar 2.0//EN
METHOD:PUBLISH
X-PUBLISHED-TTL:P3D
REFRESH-INTERVAL:P3D
CALSCALE:GREGORIAN
BEGIN:VEVENT
DTSTART:20190530T223000Z
DTEND:20190531T013000Z
X-MICROSOFT-CDO-ALLDAYEVENT:FALSE
SUMMARY:Live Music - Sound Kraft
DESCRIPTION:Kick back\, relax\, and enjoy your favorite 70's\, 80's\, 90's hits and more.
X-ALT-DESC;FMTTYPE=text/html:<div class="tribe-events-single-event-description tribe-events-content" style="margin: 0px\; padding: 0px\; border: 0px\; font-variant-numeric: inherit\; font-variant-east-asian: inherit\; font-stretch: inherit\; font-size: 20px\; line-height: inherit\; font-family: &quot\;Varela Round&quot\;\, Arial\, Tahoma\, sans-serif\; vertical-align: baseline\; max-width: 100%\; width: 1195.63px\; color: rgb(119\, 119\, 119)\;">\n<p style="margin: 0px 0px 10px\; padding: 0px\; border: 0px\; font-style: inherit\; font-variant: inherit\; font-weight: inherit\; font-stretch: inherit\; font-size: inherit\; line-height: 1.7\; font-family: inherit\; vertical-align: baseline\;">Kick back\, relax\, and enjoy your favorite 70&rsquo\;s\, 80&rsquo\;s\, 90&rsquo\;s hits and more.</p>\n</div>\n
LOCATION:O'Callahan's Publick House 115 N. Main St Mocksville
UID:e.2378.15772
SEQUENCE:3
DTSTAMP:20260419T142745Z
URL:https://business.daviechamber.com/events/details/live-music-sound-kraft-15772
END:VEVENT

END:VCALENDAR
