BEGIN:VCALENDAR
VERSION:2.0
PRODID:-//ChamberMaster//Event Calendar 2.0//EN
METHOD:PUBLISH
X-PUBLISHED-TTL:P3D
REFRESH-INTERVAL:P3D
CALSCALE:GREGORIAN
BEGIN:VEVENT
DTSTART:20260308T000000Z
DTEND:20260308T030000Z
X-MICROSOFT-CDO-ALLDAYEVENT:FALSE
SUMMARY:Live Music | The Station Pizzeria and Taproom
DESCRIPTION:Get ready for an awesome lineup of live music this spring!\n\nMark your calendars\, grab your crew\, and come enjoy cold drinks\, hot pizza\, and great tunes every Friday and Saturday night !
X-ALT-DESC;FMTTYPE=text/html:<span style="color: rgb(97\, 97\, 97)\; font-family: &quot\;Alegreya Sans&quot\;\, Helvetica\, Arial\, Lucida\, sans-serif\; font-size: 14px\;">Get ready for an awesome lineup of live music this spring!<br />\nMark your calendars\, grab your crew\, and come enjoy cold drinks\, hot pizza\, and great tunes every Friday and Saturday night !</span>
LOCATION:
UID:e.2378.30445
SEQUENCE:3
DTSTAMP:20260424T110245Z
URL:https://business.daviechamber.com/events/details/live-music-the-station-pizzeria-and-taproom-30445
END:VEVENT

END:VCALENDAR
