BEGIN:VCALENDAR
VERSION:2.0
PRODID:-//ChamberMaster//Event Calendar 2.0//EN
METHOD:PUBLISH
X-PUBLISHED-TTL:P3D
REFRESH-INTERVAL:P3D
CALSCALE:GREGORIAN
BEGIN:VEVENT
DTSTART:20230709T180000Z
DTEND:20230709T210000Z
X-MICROSOFT-CDO-ALLDAYEVENT:FALSE
SUMMARY:Live Music w/ Russell Henderson
DESCRIPTION:Live Music on the Patio from 2-5pm with Greensboro singer-songwriter Russell Henderson.
X-ALT-DESC;FMTTYPE=text/html:<div class="xdj266r x11i5rnm xat24cr x1mh8g0r x1vvkbs" style="margin: 0px\; overflow-wrap: break-word\; font-family: inherit\;"><span class="x193iq5w xeuugli x13faqbe x1vvkbs x1xmvt09 x1lliihq x1s928wv xhkezso x1gmr53x x1cpjm7i x1fgarty x1943h6x xudqn12 x3x7a5m x6prxxf xvq8zen xo1l8bm xzsf02u" dir="auto" style="word-break: break-word\; max-width: 100%\; display: block\; overflow-wrap: break-word\; font-family: &quot\;Segoe UI Historic&quot\;\, &quot\;Segoe UI&quot\;\, Helvetica\, Arial\, sans-serif\; font-size: 0.9375rem\; min-width: 0px\; line-height: 1.3333\; margin-top: 16px\;"><span style="font-size:16px\;"><span style="font-family:tahoma\;"><span style="color:#000000\;">Live Music on the Patio from 2-5pm with Greensboro singer-songwriter Russell Henderson.</span></span></span></span></div>\n
LOCATION:The Station
UID:e.2378.23060
SEQUENCE:3
DTSTAMP:20260425T230251Z
URL:https://business.daviechamber.com/events/details/live-music-w-russell-henderson-23060
END:VEVENT

END:VCALENDAR
