BEGIN:VCALENDAR
VERSION:2.0
PRODID:-//ChamberMaster//Event Calendar 2.0//EN
METHOD:PUBLISH
X-PUBLISHED-TTL:P3D
REFRESH-INTERVAL:P3D
CALSCALE:GREGORIAN
BEGIN:VEVENT
DTSTART:20230721T140000Z
DTEND:20230721T160000Z
X-MICROSOFT-CDO-ALLDAYEVENT:FALSE
SUMMARY:Living History Day at Cognition
DESCRIPTION:Recommended for ages 7-12\, but all ages are welcome at this FREE community event.\n\n-Basket Weaving\n\n-Quilting\n\n-Wood Carving\n\n-Butter Making\n\n\n\nA free community event sponsored by Davie County Senior Services
X-ALT-DESC;FMTTYPE=text/html:Recommended for ages 7-12\, but all ages are welcome at this FREE community event.<br />\n-Basket Weaving<br />\n-Quilting<br />\n-Wood Carving<br />\n-Butter Making<br />\n<br />\nA free community event sponsored by Davie County Senior Services<br />\n&nbsp\;
LOCATION:
UID:e.2378.23050
SEQUENCE:3
DTSTAMP:20260425T230018Z
URL:https://business.daviechamber.com/events/details/living-history-day-at-cognition-23050
END:VEVENT

END:VCALENDAR
