BEGIN:VCALENDAR
VERSION:2.0
PRODID:-//ChamberMaster//Event Calendar 2.0//EN
METHOD:PUBLISH
X-PUBLISHED-TTL:P3D
REFRESH-INTERVAL:P3D
CALSCALE:GREGORIAN
BEGIN:VEVENT
DTSTART:20151116T190000Z
DTEND:20151116T220000Z
X-MICROSOFT-CDO-ALLDAYEVENT:FALSE
SUMMARY:Living with Diabetes Cooking Classes
DESCRIPTION:This informative five-week class not only will give you an overview on diabetes. In this class you will learn:\n\n	Managing tips\n	Meal planning\n	What to eat and not eat\n	Label reading\n	Exercise tips\n	Prepare simple meals
X-ALT-DESC;FMTTYPE=text/html:This informative five-week class not only will give you an overview on diabetes. In this class you will learn:\n<ul>\n	<li>Managing tips</li>\n	<li>Meal planning</li>\n	<li>What to eat and not eat</li>\n	<li>Label reading</li>\n	<li>Exercise tips</li>\n	<li>Prepare simple meals</li>\n</ul>\n
LOCATION:Hillsdale Baptist Church 4815 Us Hwy 158\, Advance
UID:e.2378.4245
SEQUENCE:3
DTSTAMP:20260422T055751Z
URL:https://business.daviechamber.com/events/details/living-with-diabetes-cooking-classes-11-16-2015-4245
END:VEVENT

END:VCALENDAR
