BEGIN:VCALENDAR
VERSION:2.0
PRODID:-//ChamberMaster//Event Calendar 2.0//EN
METHOD:PUBLISH
X-PUBLISHED-TTL:P3D
REFRESH-INTERVAL:P3D
CALSCALE:GREGORIAN
BEGIN:VEVENT
DTSTART:20170218T230000Z
DTEND:20170219T033000Z
X-MICROSOFT-CDO-ALLDAYEVENT:FALSE
SUMMARY:Love Notes
DESCRIPTION:DINNER AND SHOW FUNDRAISER: Come spend a special evening at Bermuda Run Country Club as Davie County Arts Council once again offers a "Dinner & Show." This is being held to raise funds for the organization's various art programs such as children's performances\, community theatre productions\, art exhibits\, and other community art projects. We have contracted EBZB Productions to perform after dinner. They are well known throughout the US for their original theatrical productions. Love Notes will feature Serena Ebhardt's beautiful voice as she weaves in and out of romantic songs just for you and your Valentine's date. Tickets: $50.00 per person includes one GREAT meal with dessert and the performance. (Cash bar Available.)
X-ALT-DESC;FMTTYPE=text/html:DINNER AND SHOW FUNDRAISER: Come spend a special evening at Bermuda Run Country Club as Davie County Arts Council once again offers a &quot\;Dinner &amp\; Show.&quot\; This is being held to raise funds for the organization&#39\;s various art programs such as children&rsquo\;s performances\, community theatre productions\, art exhibits\, and other community art projects. We have contracted EBZB Productions to perform after dinner. They are well known throughout the US for their original theatrical productions. Love Notes will feature Serena Ebhardt&#39\;s beautiful voice as she weaves in and out of romantic songs just for you and your Valentine&#39\;s date. Tickets: $50.00 per person includes one GREAT meal with dessert and the performance. (Cash bar Available.)
LOCATION:Bermuda Run Country Club 324 Bermuda Run Drive Bermuda Run\, NC 27006
UID:e.2378.10846
SEQUENCE:3
DTSTAMP:20260422T111950Z
URL:https://business.daviechamber.com/events/details/love-notes-10846
END:VEVENT

END:VCALENDAR
