BEGIN:VCALENDAR
VERSION:2.0
PRODID:-//ChamberMaster//Event Calendar 2.0//EN
METHOD:PUBLISH
X-PUBLISHED-TTL:P3D
REFRESH-INTERVAL:P3D
CALSCALE:GREGORIAN
BEGIN:VEVENT
DTSTART:20161126T140000Z
DTEND:20161126T180000Z
X-MICROSOFT-CDO-ALLDAYEVENT:FALSE
SUMMARY:LuLaRoe Shopping Extravaganza
DESCRIPTION:Multi-Consultant Shopping Extravaganza at Farmington Community Center.\n\n	Over 2\,000 sq. ft. of LuLaRoe\n	10+ Consultants with all of their inventory\n	Dressing rooms will be provided\n	Door prizes\n	Christmas shopping with your girlfriends\n\n\n\nA portion of each consultants' sales will be donated back to Farmington Community Center LuLaRoe Corporate will also be matching this donation.
X-ALT-DESC;FMTTYPE=text/html:Multi-Consultant Shopping Extravaganza at Farmington Community Center.\n<ul>\n	<li>Over 2\,000 sq. ft. of LuLaRoe</li>\n	<li>10+ Consultants with all of their inventory</li>\n	<li>Dressing rooms will be provided</li>\n	<li>Door prizes</li>\n	<li>Christmas shopping with your girlfriends</li>\n</ul>\n<br />\nA portion of each consultants&#39\; sales will be donated back to Farmington Community Center LuLaRoe Corporate will also be matching this donation.
LOCATION:Farmington Community Center 1723 Farmington Rd Mocksville\, NC 27028
UID:e.2378.10807
SEQUENCE:3
DTSTAMP:20260422T171052Z
URL:https://business.daviechamber.com/events/details/lularoe-shopping-extravaganza-10807
END:VEVENT

END:VCALENDAR
