BEGIN:VCALENDAR
VERSION:2.0
PRODID:-//ChamberMaster//Event Calendar 2.0//EN
METHOD:PUBLISH
X-PUBLISHED-TTL:P3D
REFRESH-INTERVAL:P3D
CALSCALE:GREGORIAN
BEGIN:VEVENT
DTSTART:20151117T173000Z
DTEND:20151117T183000Z
X-MICROSOFT-CDO-ALLDAYEVENT:FALSE
SUMMARY:Lunch and Learn: Fighting Cancer with your Fork
DESCRIPTION:The American Institute for Cancer Research continues to add to their list of Foods That Fight Cancer (link to http://www.aicr.org/foods-that-fight-cancer/). Cancers Services will present about the foods we can add to our diet to help fight cancer. Lunch is provided at no charge.
X-ALT-DESC;FMTTYPE=text/html:The American Institute for Cancer Research continues to add to their list of Foods That Fight Cancer (link to http://www.aicr.org/foods-that-fight-cancer/). Cancers Services will present about the foods we can add to our diet to help fight cancer. Lunch is provided at no charge.
LOCATION:Davie Wellness Center 142 Gaither Street Mocksville\, NC 27028
UID:e.2378.4288
SEQUENCE:3
DTSTAMP:20260422T060427Z
URL:https://business.daviechamber.com/events/details/lunch-and-learn-fighting-cancer-with-your-fork-11-17-2015-4288
END:VEVENT

END:VCALENDAR
