BEGIN:VCALENDAR
VERSION:2.0
PRODID:-//ChamberMaster//Event Calendar 2.0//EN
METHOD:PUBLISH
X-PUBLISHED-TTL:P3D
REFRESH-INTERVAL:P3D
CALSCALE:GREGORIAN
BEGIN:VEVENT
DTSTART:20250611T220000Z
DTEND:20250612T003000Z
X-MICROSOFT-CDO-ALLDAYEVENT:FALSE
SUMMARY:Mahjong 101 | Maddie Cakes
DESCRIPTION:Come and join us for a night full of learning the basics of Mahjong! Morgan with momahjong will be guiding us through to become pros! All game materials will be provided\, so just show up ready for a great time!\n\nWine/beer/coffee will be available for purchase as well as the bakery for goodies!\n\nThe link to sign up for this class will be a Google Doc. Fill out all the information and you will be all set!
X-ALT-DESC;FMTTYPE=text/html:<span style="color: rgb(8\, 8\, 9)\; font-family: &quot\;Segoe UI Historic&quot\;\, &quot\;Segoe UI&quot\;\, Helvetica\, Arial\, sans-serif\; font-size: 15px\;">Come and join us for a night full of learning the basics of Mahjong! Morgan with momahjong will be guiding us through to become pros! All game materials will be provided\, so just show up ready for a great time!</span><br class="html-br" style="color: rgb(8\, 8\, 9)\; font-family: &quot\;Segoe UI Historic&quot\;\, &quot\;Segoe UI&quot\;\, Helvetica\, Arial\, sans-serif\; font-size: 15px\;" />\n<span style="color: rgb(8\, 8\, 9)\; font-family: &quot\;Segoe UI Historic&quot\;\, &quot\;Segoe UI&quot\;\, Helvetica\, Arial\, sans-serif\; font-size: 15px\;">Wine/beer/coffee will be available for purchase as well as the bakery for goodies!</span><br class="html-br" style="color: rgb(8\, 8\, 9)\; font-family: &quot\;Segoe UI Historic&quot\;\, &quot\;Segoe UI&quot\;\, Helvetica\, Arial\, sans-serif\; font-size: 15px\;" />\n<span style="color: rgb(8\, 8\, 9)\; font-family: &quot\;Segoe UI Historic&quot\;\, &quot\;Segoe UI&quot\;\, Helvetica\, Arial\, sans-serif\; font-size: 15px\;">The link to sign up for this class will be a Google Doc. Fill out all the information and you will be all set!</span>
LOCATION:Maddie Cakes Bakery
UID:e.2378.27536
SEQUENCE:3
DTSTAMP:20260425T221005Z
URL:https://business.daviechamber.com/events/details/mahjong-101-maddie-cakes-27536
END:VEVENT

END:VCALENDAR
