BEGIN:VCALENDAR
VERSION:2.0
PRODID:-//ChamberMaster//Event Calendar 2.0//EN
METHOD:PUBLISH
X-PUBLISHED-TTL:P3D
REFRESH-INTERVAL:P3D
CALSCALE:GREGORIAN
BEGIN:VEVENT
DTSTART:20160503T220000Z
DTEND:20160504T000000Z
X-MICROSOFT-CDO-ALLDAYEVENT:FALSE
SUMMARY:Manicures for Mackenzie
DESCRIPTION:This event is to help local child Mackenzie Smith\, with Type 1 Diabetes\, to bring home a service dog. The service dog will aid in detecting Mackenzie's sugar levels.\n\nNote: The manicures will be done on your four legged pets. If you do not have a pet\, donations are always welcome!
X-ALT-DESC;FMTTYPE=text/html:This event is to help local child Mackenzie Smith\, with Type 1 Diabetes\, to bring home a service dog. The service dog will aid in detecting Mackenzie&#39\;s sugar levels.<br />\nNote: The manicures will be done on your four legged pets. If you do not have a pet\, donations are always welcome!
LOCATION:Bark of the Town Pet Salon 1039 Farmington Road Mocksville\, NC 27028
UID:e.2378.4122
SEQUENCE:3
DTSTAMP:20260423T004618Z
URL:https://business.daviechamber.com/events/details/manicures-for-mackenzie-05-03-2016-4122
END:VEVENT

END:VCALENDAR
