BEGIN:VCALENDAR
VERSION:2.0
PRODID:-//ChamberMaster//Event Calendar 2.0//EN
METHOD:PUBLISH
X-PUBLISHED-TTL:P3D
REFRESH-INTERVAL:P3D
CALSCALE:GREGORIAN
BEGIN:VEVENT
DTSTART:20180222T133000Z
DTEND:20180222T143000Z
X-MICROSOFT-CDO-ALLDAYEVENT:FALSE
SUMMARY:March for Babies Iredell Kick-Off
DESCRIPTION:Join us as we kick-off the Iredell March for Babies season! Davie County community members are encouraged to participate! This free breakfast event\, featuring an omelet bar\, is an educational opportunity to learn more about how each person born in the United States is affected by the March of Dimes. Learn more about creating a team\, participating in this year's March for Babies walk\, and fundraising opportunities. RSVP to srockett@marchofdimes.org or to Meagan.kowalski@iredellhealth.org.
X-ALT-DESC;FMTTYPE=text/html:Join us as we kick-off the Iredell March for Babies season! Davie County community members are encouraged to participate! This free breakfast event\, featuring an omelet bar\, is an educational opportunity to learn more about how each person born in the United States is affected by the March of Dimes. Learn more about creating a team\, participating in this year&#39\;s March for Babies walk\, and fundraising opportunities. RSVP to srockett@marchofdimes.org or to Meagan.kowalski@iredellhealth.org.
LOCATION:Statesville Civic Center 300 S Center St. Statesville\, NC 28677
UID:e.2378.13514
SEQUENCE:3
DTSTAMP:20260421T181859Z
URL:https://business.daviechamber.com/events/details/march-for-babies-iredell-kick-off-13514
END:VEVENT

END:VCALENDAR
