BEGIN:VCALENDAR
VERSION:2.0
PRODID:-//ChamberMaster//Event Calendar 2.0//EN
METHOD:PUBLISH
X-PUBLISHED-TTL:P3D
REFRESH-INTERVAL:P3D
CALSCALE:GREGORIAN
BEGIN:VEVENT
DTSTART:20260326T130000Z
DTEND:20260326T150000Z
X-MICROSOFT-CDO-ALLDAYEVENT:FALSE
SUMMARY:March on Over in March | Davie Chamber
DESCRIPTION:March On Over in March\n\nJoin us at the Davie County Chamber for a special morning of member appreciation\, connection\, and a light breakfast.\n\nStop by to meet Kristine and the 2026 Leadership Team\, network with other Chamber members\, and enjoy coffee and breakfast bites.\n\n\n\nTime: 9:00 AM to 11:00 AM\n\nLocation: Davie County Chamber\n\nBring your business cards for our office kiosk and make valuable connections. No formal program\, just good conversation and community.
X-ALT-DESC;FMTTYPE=text/html:<p data-end="94" data-start="66"><strong data-end="92" data-start="66">March On Over in March</strong></p>\n\n<p data-end="360" data-start="96">Join us at the <span class="hover:entity-accent entity-underline inline cursor-pointer align-baseline">Davie County Chamber</span>&nbsp\;for a special morning of member appreciation\, connection\, and a light breakfast.<br />\nStop by to meet Kristine and the 2026 Leadership Team\, network with other Chamber members\, and enjoy coffee and breakfast bites.<br />\n<br data-end="378" data-start="375" />\nTime: 9:00 AM to 11:00 AM<br data-end="405" data-start="402" />\nLocation: Davie County Chamber</p>\n\n<p data-end="574" data-start="438">Bring your business cards for our office kiosk and make valuable connections. No formal program\, just good conversation and community.</p>\n
LOCATION:
UID:e.2378.30441
SEQUENCE:3
DTSTAMP:20260424T105520Z
URL:https://business.daviechamber.com/events/details/march-on-over-in-march-davie-chamber-30441
END:VEVENT

END:VCALENDAR
