BEGIN:VCALENDAR
VERSION:2.0
PRODID:-//ChamberMaster//Event Calendar 2.0//EN
METHOD:PUBLISH
X-PUBLISHED-TTL:P3D
REFRESH-INTERVAL:P3D
CALSCALE:GREGORIAN
BEGIN:VEVENT
DTSTART:20160416T180000Z
DTEND:20160416T230000Z
X-MICROSOFT-CDO-ALLDAYEVENT:FALSE
SUMMARY:Mardi Gras Presented by Milling Manor
DESCRIPTION:Milling Manor is hosting a Mardi Gras Festival in downtown Mocksville. The festivities will include a parade\, food vendors\, crafters\, a performance by DJ Tina from Lake Girl Music Productions\, a masquerade costume contest\, and a 50/50 raffle.\n\n\n\nThis event benefits adults with developmental disabilities.
X-ALT-DESC;FMTTYPE=text/html:Milling Manor is hosting a Mardi Gras Festival in downtown Mocksville. The festivities will include a parade\, food vendors\, crafters\, a performance by DJ Tina from Lake Girl Music Productions\, a masquerade costume contest\, and a 50/50 raffle.<br />\n<br />\n<em>This event benefits adults with developmental disabilities.</em>
LOCATION:Junker's Mill 107 South Salisbury Street\, Mocksville
UID:e.2378.4560
SEQUENCE:3
DTSTAMP:20260423T040707Z
URL:https://business.daviechamber.com/events/details/mardi-gras-presented-by-milling-manor-04-16-2016-4560
END:VEVENT

END:VCALENDAR
