BEGIN:VCALENDAR
VERSION:2.0
PRODID:-//ChamberMaster//Event Calendar 2.0//EN
METHOD:PUBLISH
X-PUBLISHED-TTL:P3D
REFRESH-INTERVAL:P3D
CALSCALE:GREGORIAN
BEGIN:VEVENT
DTSTART:20170209T133000Z
DTEND:20170209T203000Z
X-MICROSOFT-CDO-ALLDAYEVENT:FALSE
SUMMARY:Marketing Summit
DESCRIPTION:This full-day event spotlights regional and national presenters on various marketing topics. Timely and relevant issues will be discussed in light of the event's theme: Strategies for Taking your Business to a Bigger Market.\n\n\n\nGuest Speakers:\n\nNick Hawks\, Certified eBay Ed Specialist\n\nDavid M. Frankel\, Inventor/Entrepreneur\n\nKathy Wall\, President\, The Media Matters\n\nAngel Guerrero\, Entrepreneur/Speaker\n\nBenjamin King\, Wake Forest University\n\nGrace Kanoy\, GeoCore Films/Story Teller\n\nCarl Shantley\, President\, Rohl Design & Marketing\n\n\n\n*Event Sponsorship Opportunity*\n\nFull-Day Booth & Sponsorships Available:\n\n$100 - Display Area & Company Summit Registration (up to 4)\n\n$75 - Display Area & 1 Summit Registration\n\n$25 - Display Area\n\n\n\nSponsorship Deadline: Monday\, January 9\, 2017\n\nContact Martha Larson\, DCCC SBS Director for more information & details.
X-ALT-DESC;FMTTYPE=text/html:This full-day event spotlights regional and national presenters on various marketing topics. Timely and relevant issues will be discussed in light of the event&#39\;s theme: Strategies for Taking your Business to a Bigger Market.<br />\n<br />\n<u>Guest Speakers:</u><br />\nNick Hawks\, <em>Certified eBay Ed Specialist</em><br />\nDavid M. Frankel\, <em>Inventor/Entrepreneur</em><br />\nKathy Wall\, <em>President\, The Media Matters</em><br />\nAngel Guerrero\, <em>Entrepreneur/Speaker</em><br />\nBenjamin King\, <em>Wake Forest University</em><br />\nGrace Kanoy\, <em>GeoCore Films/Story Teller</em><br />\nCarl Shantley\, <em>President\, Rohl Design &amp\; Marketing</em><br />\n<br />\n*Event Sponsorship Opportunity*<br />\nFull-Day Booth &amp\; Sponsorships Available:<br />\n$100 - Display Area &amp\; Company Summit Registration (up to 4)<br />\n$75 - Display Area &amp\; 1 Summit Registration<br />\n$25 - Display Area<br />\n<br />\nSponsorship Deadline: Monday\, January 9\, 2017<br />\nContact Martha Larson\, DCCC&nbsp\;SBS Director for more information &amp\; details.
LOCATION:WinMock at Kinderton 168 E. Kinderton Way Bermuda Run\, NC 27006
UID:e.2378.10819
SEQUENCE:3
DTSTAMP:20260421T103153Z
URL:https://business.daviechamber.com/events/details/marketing-summit-02-09-2017-10819
END:VEVENT

END:VCALENDAR
