BEGIN:VCALENDAR
VERSION:2.0
PRODID:-//ChamberMaster//Event Calendar 2.0//EN
METHOD:PUBLISH
X-PUBLISHED-TTL:P3D
REFRESH-INTERVAL:P3D
CALSCALE:GREGORIAN
BEGIN:VEVENT
DTSTART:20230806T180000Z
DTEND:20230806T210000Z
X-MICROSOFT-CDO-ALLDAYEVENT:FALSE
SUMMARY:Marte Maney Live
DESCRIPTION:Marte Maney will be back at The Station 8/6\, (2-5). There's something for everyone at The Station.
X-ALT-DESC;FMTTYPE=text/html:<span style="font-size:18px\;"><span style="font-family:tahoma\;"><span style="color:#333333\;">Marte Maney will be back at The Station 8/6\, (2-5). There&#39\;s something for everyone at The Station.</span></span></span>
LOCATION:The Station
UID:e.2378.23139
SEQUENCE:3
DTSTAMP:20260425T201441Z
URL:https://business.daviechamber.com/events/details/marte-maney-live-23139
END:VEVENT

END:VCALENDAR
