BEGIN:VCALENDAR
VERSION:2.0
PRODID:-//ChamberMaster//Event Calendar 2.0//EN
METHOD:PUBLISH
X-PUBLISHED-TTL:P3D
REFRESH-INTERVAL:P3D
CALSCALE:GREGORIAN
BEGIN:VEVENT
DTSTART:20170812T210000Z
DTEND:20170813T010000Z
X-MICROSOFT-CDO-ALLDAYEVENT:FALSE
SUMMARY:Masonic Picnic
DESCRIPTION:Held since 1878 as a fundraiser for the Masonic-sponsored Oxford Orphanage (now the Masonic Home for Children at Oxford)\, the three Davie County Masonic Lodges will hold this years picnic on Saturday\, August 12th at 5:00 pm at the Masonic Picnic Grounds on Poplar Street (just behind the Brock Performing Arts Center). \n\n\n\nThe buffet has always been the central feature.  This year's covered dishes will be supplemented by chef specialties from local restaurants.  The buffet is available for an $8.00 contribution to the orphanage.\n\n\n\nThis year's picnic is sponsored by the Advance\, Farmington and Mocksville Masonic Lodges in memory of Past Master Taylor Slye\, who passed away last year.\n\n\n\nAll proceeds are donated to the Masonic Home for Children at Oxford.
X-ALT-DESC;FMTTYPE=text/html:Held since 1878 as a fundraiser for the Masonic-sponsored Oxford Orphanage (now the Masonic Home for Children at Oxford)\, the three Davie County Masonic Lodges will hold this years picnic on Saturday\, August 12th at 5:00 pm at the Masonic Picnic Grounds on Poplar Street (just behind the Brock Performing Arts Center).&nbsp\;<br />\n<br />\nThe buffet has always been the central feature.&nbsp\; This year&#39\;s covered dishes will be supplemented by chef specialties from local restaurants.&nbsp\; The buffet is available for an $8.00 contribution to the orphanage.<br />\n<br />\nThis year&#39\;s picnic is sponsored by the Advance\, Farmington and Mocksville Masonic Lodges in memory of Past Master Taylor Slye\, who passed away last year.<br />\n<br />\nAll proceeds are donated to the Masonic Home for Children at Oxford.
LOCATION:Masonic Picnic Grounds
UID:e.2378.12062
SEQUENCE:3
DTSTAMP:20260422T043436Z
URL:https://business.daviechamber.com/events/details/masonic-picnic-12062
END:VEVENT

END:VCALENDAR
