BEGIN:VCALENDAR
VERSION:2.0
PRODID:-//ChamberMaster//Event Calendar 2.0//EN
METHOD:PUBLISH
X-PUBLISHED-TTL:P3D
REFRESH-INTERVAL:P3D
CALSCALE:GREGORIAN
BEGIN:VEVENT
DTSTART:20230523T154500Z
DTEND:20230523T170000Z
X-MICROSOFT-CDO-ALLDAYEVENT:FALSE
SUMMARY:May Chamber Monthly Meeting
DESCRIPTION:It's time to shift into a healthier style of Leadership that is based on trust\, understanding\, and collaboration. By building relationships and creating a positive working environment\, we can help foster a healthier way of doing business.\n\n\n\nThis month we will be hearing form Micah Ray\, Co-Founder of D4 Concepts.\n\n\n\nMicah will be presenting "Shifting into Healthy Leadership"\n\nDecision fatigue. Work from Home. The Great Resignation. Leaders everywhere are struggling to keep up with it all. In this workshop\, you'll learn a simple visual and its six different modes. Knowing when to use each one can help you know when and how to shift your mindset to maintain health.\n\n\n\nThis is an open networking event @ Bermuda Run Country Club specifically for our chamber members to provide them with multiple opportunities to meet and develop relationships with fellow business owners in our community.\n\n\n\nDue to limited seating\, everyone must register for this event. Please mark if you will be joining us for lunch. (Lunch is not required).\n\n\n\nGuests are permitted to attend up to two networking meetings before joining the Chamber.
X-ALT-DESC;FMTTYPE=text/html:<div class="xdj266r x11i5rnm xat24cr x1mh8g0r x1vvkbs x126k92a" style="margin: 0px\; white-space: pre-wrap\; overflow-wrap: break-word\; font-family: &quot\;Segoe UI Historic&quot\;\, &quot\;Segoe UI&quot\;\, Helvetica\, Arial\, sans-serif\; color: rgb(5\, 5\, 5)\; font-size: 15px\;">\n<div dir="auto" style="font-family: inherit\;"><span style="font-size:16px\;"><span style="font-family:tahoma\;"><span style="color:#000000\;">It&rsquo\;s time to shift into a healthier style of Leadership that is based on trust\, understanding\, and collaboration. By building relationships and creating a positive working environment\, we can help foster a healthier way of doing business.</span></span></span></div>\n</div>\n\n<div class="x11i5rnm xat24cr x1mh8g0r x1vvkbs xtlvy1s x126k92a" style="margin: 0.5em 0px 0px\; white-space: pre-wrap\; overflow-wrap: break-word\; font-family: &quot\;Segoe UI Historic&quot\;\, &quot\;Segoe UI&quot\;\, Helvetica\, Arial\, sans-serif\; color: rgb(5\, 5\, 5)\; font-size: 15px\;">\n<div dir="auto" style="font-family: inherit\;"><span style="font-size:16px\;"><span style="font-family:tahoma\;"><span style="color:#000000\;">This month we will be hearing form Micah Ray\, Co-Founder of D4 Concepts.</span></span></span></div>\n</div>\n\n<div class="x11i5rnm xat24cr x1mh8g0r x1vvkbs xtlvy1s x126k92a" style="margin: 0.5em 0px 0px\; white-space: pre-wrap\; overflow-wrap: break-word\; font-family: &quot\;Segoe UI Historic&quot\;\, &quot\;Segoe UI&quot\;\, Helvetica\, Arial\, sans-serif\; color: rgb(5\, 5\, 5)\; font-size: 15px\;">\n<div dir="auto" style="font-family: inherit\;"><span style="font-size:16px\;"><span style="font-family:tahoma\;"><span style="color:#000000\;">Micah will be presenting &quot\;Shifting into Healthy Leadership&quot\;</span></span></span></div>\n\n<div dir="auto" style="font-family: inherit\;"><span style="font-size:16px\;"><span style="font-family:tahoma\;"><span style="color:#000000\;">Decision fatigue. Work from Home. The Great Resignation. Leaders everywhere are struggling to keep up with it all. In this workshop\, you&rsquo\;ll learn a simple visual and its six different modes. Knowing when to use each one can help you know when and how to shift your mindset to maintain health.</span></span></span></div>\n</div>\n<br />\n<span style="font-size:14px\;"><span style="font-family:arial\;"><span style="font-size:16px\;"><span style="font-family:tahoma\;"><span style="color:#000000\;">This is an open networking event @ Bermuda Run Country Club specifically for our chamber members to provide them with multiple opportunities to meet and develop relationships with fellow business owners in our community.</span></span></span></span></span><br />\n<br />\n<strong><span style="font-family: tahoma\; font-size: 16px\;">Due to limited seating\, everyone must register for this event. Please mark if you will be joining us for lunch. (Lunch is not required).</span></strong><br />\n<br />\n<span style="font-size: 16px\;"><span style="font-family: tahoma\;">Guests are permitted to attend up to two networking meetings before joining the Chamber.</span></span>
LOCATION:Bermuda Run Country Club
UID:e.2378.13841
SEQUENCE:3
DTSTAMP:20260424T130200Z
URL:https://business.daviechamber.com/events/details/may-chamber-monthly-meeting-05-23-2023-13841
END:VEVENT

END:VCALENDAR
